BEGIN:VCALENDAR
VERSION:2.0
PRODID:-//Squarespace Inc/Squarespace 6//v6//EN
BEGIN:VEVENT
UID:5d95532284c55443c92f5eb0@squarespace.com
DTSTAMP:20191006T050905Z
DTSTART:20191018T010000Z
DTEND:20191020T020000Z
SUMMARY:Albert Park College Art Show
GEO:-37.842451;144.939114
LOCATION:Albert Park College\, 40 Bay Street\, Port Melbourne\, VIC\, 3207\
 , Australia
END:VEVENT
END:VCALENDAR
