BEGIN:VCALENDAR
VERSION:2.0
PRODID:-//Squarespace Inc/Squarespace 6//v6//EN
BEGIN:VEVENT
UID:5d954eb52219ce54275376a1@squarespace.com
DTSTAMP:20191003T013908Z
DTSTART:20191024T130000Z
DTEND:20191026T173000Z
SUMMARY:Buninyong Art Prize &amp\; Exhibition
GEO:-37.650278;143.883889
LOCATION:Buninyong Art Prize\, Buninyong Victoria\, Australia
END:VEVENT
END:VCALENDAR
