BEGIN:VCALENDAR
VERSION:2.0
PRODID:-//Squarespace Inc/Squarespace 6//v6//EN
BEGIN:VEVENT
UID:5d955154a1b7f822beadb9f1@squarespace.com
DTSTAMP:20191003T014528Z
DTSTART:20191027T010000Z
DTEND:20191124T020000Z
SUMMARY:Shearers Arms Gallery
GEO:-38.14525;144.336254
LOCATION:Geelong Art Society\, 202 Aberdeen Street\, Geelong West\, VIC\, 3
 218\, Australia
END:VEVENT
END:VCALENDAR
