BEGIN:VCALENDAR
VERSION:2.0
PRODID:-//Squarespace Inc/Squarespace 6//v6//EN
BEGIN:VEVENT
UID:5d954bd781c7d33521332e5f@squarespace.com
DTSTAMP:20191003T012131Z
DTSTART:20191101T113000Z
DTEND:20191103T123000Z
SUMMARY:Blue Mountains Print Prize
GEO:-33.766667;150.619444
LOCATION:Sydney Printmakers\, Glenbrook NSW\, Australia
END:VEVENT
END:VCALENDAR
