BEGIN:VCALENDAR
VERSION:2.0
PRODID:-//Squarespace Inc/Squarespace 6//v6//EN
BEGIN:VEVENT
UID:5d954d2c36e1ee4ab3cd7282@squarespace.com
DTSTAMP:20191003T012743Z
DTSTART:20191129T003000Z
DTEND:20191203T013000Z
SUMMARY:EGAG WRAP Small Artwork Prize
GEO:-37.824257;147.633134
LOCATION:East GIppsland Art Gallery\, 2 Nicholson Street\, Bairnsdale\, Vic
 toria\, 3875\, East Gippsland\, Victoria\, Australia
END:VEVENT
END:VCALENDAR
