BEGIN:VCALENDAR
VERSION:2.0
PRODID:-//Squarespace Inc/Squarespace 6//v6//EN
BEGIN:VEVENT
UID:5da7afa0f12aec4e40220eee@squarespace.com
DTSTAMP:20191017T001528Z
DTSTART:20191102T230000Z
DTEND:20191103T060000Z
SUMMARY:Full Day - Printmaking Studio Session
GEO:-37.958361;144.143136
LOCATION:81 Goggin Road\, Lethbridge\, Australia
END:VEVENT
END:VCALENDAR
