BEGIN:VCALENDAR
VERSION:2.0
PRODID:-//Squarespace Inc/Squarespace 6//v6//EN
BEGIN:VEVENT
UID:5d40ddd7673f8c000134d6b4@squarespace.com
DTSTAMP:20190807T005532Z
DTSTART:20190817T230000Z
DTEND:20190818T020000Z
SUMMARY:Mixed Media Madness Workshop
END:VEVENT
END:VCALENDAR
