BEGIN:VCALENDAR
VERSION:2.0
PRODID:-//Squarespace Inc/Squarespace 6//v6//EN
BEGIN:VEVENT
UID:5d33aa52dca08400019f8fc2@squarespace.com
DTSTAMP:20190917T013717Z
DTSTART:20190821T090000Z
DTEND:20190920T230000Z
SUMMARY:Hypnosis Exhibition - Tacit Galleries\, Collingwood
END:VEVENT
END:VCALENDAR
