BEGIN:VCALENDAR
VERSION:2.0
PRODID:-//Squarespace Inc/Squarespace 6//v6//EN
BEGIN:VEVENT
UID:5d9984dc4f0db4141de573f8@squarespace.com
DTSTAMP:20200121T020821Z
DTSTART:20200201T010000Z
DTEND:20200201T040000Z
SUMMARY:Printmaking Studio Sessions - Held Monthly
END:VEVENT
END:VCALENDAR
