BEGIN:VCALENDAR
VERSION:2.0
PRODID:-//Squarespace Inc/Squarespace 6//v6//EN
BEGIN:VEVENT
UID:5d33a7c2a0d19600017c30bc@squarespace.com
DTSTAMP:20191006T060809Z
DTSTART:20200111T010000Z
DTEND:20200111T040000Z
SUMMARY:Printmaking Studio Sessions - Held Monthly
END:VEVENT
END:VCALENDAR
