BEGIN:VCALENDAR
VERSION:2.0
PRODID:-//Squarespace Inc/Squarespace 6//v6//EN
BEGIN:VEVENT
UID:5e26692e5ec2f06b13667193@squarespace.com
DTSTAMP:20200121T030205Z
DTSTART:20200404T010000Z
DTEND:20200404T040000Z
SUMMARY:Printmaking Studio Sessions - Held Monthly
GEO:-37.958359;144.144998
LOCATION:Samantha Thompson Artist\, 81 Goggin Rd\, Lethbridge\, Australia
END:VEVENT
END:VCALENDAR
