BEGIN:VCALENDAR
VERSION:2.0
PRODID:-//Squarespace Inc/Squarespace 6//v6//EN
BEGIN:VEVENT
UID:5d998508a141d425ee114485@squarespace.com
DTSTAMP:20200121T020852Z
DTSTART:20200307T010000Z
DTEND:20200307T040000Z
SUMMARY:Printmaking Studio Sessions - Held Monthly
END:VEVENT
END:VCALENDAR
