BEGIN:VCALENDAR
VERSION:2.0
PRODID:-//Squarespace Inc/Squarespace 6//v6//EN
BEGIN:VEVENT
UID:5d9976aece76032d73e0098d@squarespace.com
DTSTAMP:20191006T050835Z
DTSTART:20191102T010000Z
DTEND:20191102T040000Z
SUMMARY:Introduction Printmaking Studio Sessions - Held Monthly
END:VEVENT
END:VCALENDAR
