BEGIN:VCALENDAR
VERSION:2.0
PRODID:-//Squarespace Inc/Squarespace 6//v6//EN
BEGIN:VEVENT
UID:5d33a78bde51ea0001d457fe@squarespace.com
DTSTAMP:20191006T050536Z
DTSTART:20191207T010000Z
DTEND:20191207T040000Z
SUMMARY:Introduction Printmaking Studio Sessions - Held Monthly
END:VEVENT
END:VCALENDAR
