BEGIN:VCALENDAR
VERSION:2.0
PRODID:-//Squarespace Inc/Squarespace 6//v6//EN
BEGIN:VEVENT
UID:5d33a745a38de40001d127be@squarespace.com
DTSTAMP:20190807T005906Z
DTSTART:20191005T020000Z
DTEND:20191005T050000Z
SUMMARY:Printmaking Studio Sessions - Held Monthly
END:VEVENT
END:VCALENDAR
