BEGIN:VCALENDAR
VERSION:2.0
PRODID:-//Squarespace Inc/Squarespace 6//v6//EN
BEGIN:VEVENT
UID:5d33a71da38de40001d1250a@squarespace.com
DTSTAMP:20190807T005712Z
DTSTART:20190907T020000Z
DTEND:20190907T050000Z
SUMMARY:Printmaking Studio Sessions - Held Monthly
END:VEVENT
END:VCALENDAR
