BEGIN:VCALENDAR
VERSION:2.0
PRODID:-//Squarespace Inc/Squarespace 6//v6//EN
BEGIN:VEVENT
UID:5d339f58a472a70001d00d8a@squarespace.com
DTSTAMP:20190720T233150Z
DTSTART:20190803T020000Z
DTEND:20190803T050000Z
SUMMARY:Printmaking Studio Sessions - Held Monthly
END:VEVENT
END:VCALENDAR
