BEGIN:VCALENDAR
VERSION:2.0
PRODID:-//Squarespace Inc/Squarespace 6//v6//EN
BEGIN:VEVENT
UID:5d33ac16fabc5900018cc7cb@squarespace.com
DTSTAMP:20190807T005352Z
DTSTART:20190831T020000Z
DTEND:20190831T050000Z
SUMMARY:Professional Development Workshop
END:VEVENT
END:VCALENDAR
