BEGIN:VCALENDAR
VERSION:2.0
PRODID:-//Squarespace Inc/Squarespace 6//v6//EN
BEGIN:VEVENT
UID:5d5f222b5684a50001f87791@squarespace.com
DTSTAMP:20190917T013617Z
DTSTART:20190831T233000Z
DTEND:20190930T073000Z
SUMMARY:Immerse Solo Exhibition
END:VEVENT
END:VCALENDAR
