BEGIN:VCALENDAR
VERSION:2.0
PRODID:-//Squarespace Inc/Squarespace 6//v6//EN
BEGIN:VEVENT
UID:5d33a7e1de51ea0001d45d00@squarespace.com
DTSTAMP:20190822T225815Z
DTSTART:20191116T010000Z
DTEND:20191116T050000Z
SUMMARY:Paint your Pet workshop
END:VEVENT
END:VCALENDAR
