BEGIN:VCALENDAR
VERSION:2.0
PRODID:-//Squarespace Inc/Squarespace 6//v6//EN
BEGIN:VEVENT
UID:5d4a26d48da3b90001f9e124@squarespace.com
DTSTAMP:20190822T230623Z
DTSTART:20190913T230000Z
DTEND:20190914T020000Z
SUMMARY:Contemporary Pastel Portraits Workshop
END:VEVENT
END:VCALENDAR
