BEGIN:VCALENDAR
VERSION:2.0
PRODID:-//Squarespace Inc/Squarespace 6//v6//EN
BEGIN:VEVENT
UID:5d5f204fd202920001654a29@squarespace.com
DTSTAMP:20190822T231339Z
DTSTART:20191019T220000Z
DTEND:20191020T010000Z
SUMMARY:Mono-Printing Moons Workshop
END:VEVENT
END:VCALENDAR
