BEGIN:VCALENDAR
VERSION:2.0
PRODID:-//Squarespace Inc/Squarespace 6//v6//EN
BEGIN:VEVENT
UID:5d5f1ed27f70c70001cfec2a@squarespace.com
DTSTAMP:20190822T231309Z
DTSTART:20190914T230000Z
DTEND:20190915T020000Z
SUMMARY:Mono-Printing Moons Workshop
END:VEVENT
END:VCALENDAR
