BEGIN:VCALENDAR
VERSION:2.0
PRODID:-//Squarespace Inc/Squarespace 6//v6//EN
BEGIN:VEVENT
UID:5e265d435c97ae22c79bc4ea@squarespace.com
DTSTAMP:20200121T021627Z
DTSTART:20200327T060000Z
DTEND:20200327T080000Z
SUMMARY:Hypnosis Exhibition - Napier N.Z.
GEO:-39.492844;176.912018
LOCATION:Creative Arts Napier\, Napier\, New Zealand
END:VEVENT
END:VCALENDAR
