BEGIN:VCALENDAR
VERSION:2.0
PRODID:-//Squarespace Inc/Squarespace 6//v6//EN
BEGIN:VEVENT
UID:5e2661be5c97ae22c79bd838@squarespace.com
DTSTAMP:20200121T023547Z
DTSTART:20200327T230000Z
DTEND:20200328T060000Z
SUMMARY:Upcycled Art Workshop - Creative Arts Napier - N.Z.
END:VEVENT
END:VCALENDAR
