BEGIN:VCALENDAR
VERSION:2.0
PRODID:-//Squarespace Inc/Squarespace 6//v6//EN
BEGIN:VEVENT
UID:5e266f456764070705eb119d@squarespace.com
DTSTAMP:20200121T032855Z
DTSTART:20200307T130000Z
DTEND:20200308T040000Z
SUMMARY:Professional Artist Development Workshop
GEO:-37.958331;144.140714
LOCATION:Samantha Thompson Artist\, 81 Old Goggin Road\, Lethbridge\, Austr
 alia
END:VEVENT
END:VCALENDAR
