BEGIN:VCALENDAR
VERSION:2.0
PRODID:-//Squarespace Inc/Squarespace 6//v6//EN
BEGIN:VEVENT
UID:5d8059cb3711f92d55458372@squarespace.com
DTSTAMP:20190917T041046Z
DTSTART:20200430T230000Z
DTEND:20200531T120000Z
SUMMARY:Human Emotion Print Exchange
END:VEVENT
END:VCALENDAR
