BEGIN:VCALENDAR
VERSION:2.0
PRODID:-//Squarespace Inc/Squarespace 6//v6//EN
BEGIN:VEVENT
UID:5dcb35ebc3a98e76e22011e1@squarespace.com
DTSTAMP:20200121T022543Z
DTSTART:20200613T040000Z
DTEND:20200613T070000Z
SUMMARY:Luna Solo Exhibition - Walker Street Gallery
GEO:-37.988174;145.210958
LOCATION:Walker Street Gallery\, corner Robinson and Walker Street\, Danden
 ong\, VIC\, Australia
END:VEVENT
END:VCALENDAR
